BEGIN:VCALENDAR
VERSION:2.0
CALSCALE:GREGORIAN
METHOD:PUBLISH
BEGIN:VEVENT
SUMMARY: Annual General Meeting 2026 – 4pm
DTSTART:20260527
DTEND:20260528
DTSTAMP:20260415T154623
DESCRIPTION;ENCODING=QUOTED-PRINTABLE:
UID:69dfb2cfd7be1
LOCATION:CNIT La Défense
END:VEVENT
END:VCALENDAR