BEGIN:VCALENDAR
VERSION:2.0
CALSCALE:GREGORIAN
METHOD:PUBLISH
BEGIN:VEVENT
SUMMARY: Un Été en France – Biarritz
DTSTART:20260718
DTEND:20260719
DTSTAMP:20260420T095946
DESCRIPTION;ENCODING=QUOTED-PRINTABLE:Concert programmé à 20h30 avec Gabriel Durliat et Michèle Bréant, accompagnés du pianiste Jérôme Ducros.
UID:69e5f9129952e
LOCATION:Phare de Biarritz – 64 200 Biarritz
END:VEVENT
END:VCALENDAR