BEGIN:VCALENDAR
VERSION:2.0
CALSCALE:GREGORIAN
METHOD:PUBLISH
BEGIN:VEVENT
SUMMARY: Un Été en France – Labastide d'Armagnac
DTSTART:20260717
DTEND:20260718
DTSTAMP:20260420T100215
DESCRIPTION;ENCODING=QUOTED-PRINTABLE:Concert programmé à 20h30 avec Maxime Grizard et Élise Bertrand, accompagnés du pianiste Frank Braley.
UID:69e5f9a778d65
LOCATION:Place Royale – 40 240 Labastide d'Armagnac
END:VEVENT
END:VCALENDAR