BEGIN:VCALENDAR
VERSION:2.0
CALSCALE:GREGORIAN
METHOD:PUBLISH
BEGIN:VEVENT
SUMMARY: Un Éété en France – Vaux-sur-Mer
DTSTART:20260716
DTEND:20260717
DTSTAMP:20260420T120349
DESCRIPTION;ENCODING=QUOTED-PRINTABLE:Concert programmé à 20h30 avec Maxime Grizard et Élise Bertrand, accompagnés du pianiste Frank Braley.
UID:69e61625748a3
LOCATION:Théâtre de verdure du parc de la Mairie – 17 640 Vaux-sur-Mer
END:VEVENT
END:VCALENDAR