BEGIN:VCALENDAR
VERSION:2.0
CALSCALE:GREGORIAN
METHOD:PUBLISH
BEGIN:VEVENT
SUMMARY: Un Été en France – Saint-Hilaire-de-Riez
DTSTART:20260715
DTEND:20260716
DTSTAMP:20260420T120358
DESCRIPTION;ENCODING=QUOTED-PRINTABLE:Concert programmé à 20h30 avec Maxime Grizard et Élise Bertrand, accompagnés du pianiste Frank Braley.
UID:69e6162ef09a2
LOCATION:Ilot Jeanne d'Arc – 85 270 Saint-Hilaire-de-Riez
END:VEVENT
END:VCALENDAR