BEGIN:VCALENDAR
VERSION:2.0
CALSCALE:GREGORIAN
METHOD:PUBLISH
BEGIN:VEVENT
SUMMARY: Un Été en France – Tocane-Saint-Apre
DTSTART:20260711
DTEND:20260712
DTSTAMP:20260420T120416
DESCRIPTION;ENCODING=QUOTED-PRINTABLE:Concert programmé à 20h30 avec Floriane Derthe, Oleg Volkov, Thibaut Trouche, accompagnés du pianiste Frank Braley.
UID:69e6164004907
LOCATION:Château de Fayolle – 24 350 Tocane-Saint-Apre 
END:VEVENT
END:VCALENDAR