BEGIN:VCALENDAR
VERSION:2.0
CALSCALE:GREGORIAN
METHOD:PUBLISH
BEGIN:VEVENT
SUMMARY: Un Été en France – Eymoutiers 
DTSTART:20260710
DTEND:20260711
DTSTAMP:20260420T120341
DESCRIPTION;ENCODING=QUOTED-PRINTABLE:Concert programmé à 20h30 avec Floriane Derthe, Oleg Volkov, Thibaut Trouche, accompagnés du pianiste Frank Braley.
UID:69e6161d4af12
LOCATION:Place d'Armes – 87 120 Eymoutiers 
END:VEVENT
END:VCALENDAR