BEGIN:VCALENDAR
VERSION:2.0
CALSCALE:GREGORIAN
METHOD:PUBLISH
BEGIN:VEVENT
SUMMARY: Un Été en France – Châtel-Guyon 
DTSTART:20260709
DTEND:20260710
DTSTAMP:20260420T120323
DESCRIPTION;ENCODING=QUOTED-PRINTABLE:Concert programmé à 20h30 avec Floriane Derthe, Oleg Volkov, Thibaut Trouche, accompagnés du pianiste Frank Braley.
UID:69e6160b75861
LOCATION:Parc thermal – 63 140 Châtel-Guyon 
END:VEVENT
END:VCALENDAR