BEGIN:VCALENDAR
VERSION:2.0
CALSCALE:GREGORIAN
METHOD:PUBLISH
BEGIN:VEVENT
SUMMARY: Un Été en France – Forcalquier
DTSTART:20260707
DTEND:20260708
DTSTAMP:20260420T120332
DESCRIPTION;ENCODING=QUOTED-PRINTABLE:Concert programmé à 20h30 avec Charlotte Miles, Anouchka Hack, Léo Ispir, Jeein You, Francesco Tamburini, Caroline Sypniewski, accompagnés du pianiste Jérôme Ducros.
UID:69e616147921a
LOCATION:Jardin du Couvent des Cordeliers – 04 300 Forcalquier
END:VEVENT
END:VCALENDAR