BEGIN:VCALENDAR
VERSION:2.0
CALSCALE:GREGORIAN
METHOD:PUBLISH
BEGIN:VEVENT
SUMMARY: Un Été en France – Guillestre
DTSTART:20260706
DTEND:20260707
DTSTAMP:20260420T110112
DESCRIPTION;ENCODING=QUOTED-PRINTABLE:Concert programmé à 20h30 avec  Charlotte Miles, Anouchka Hack, Léo Ispir, Jeein You, Francesco Tamburini, Caroline Sypniewski, accompagnés du pianiste Jérôme Ducros.=0D=0A=0D=0A
UID:69e6077837560
LOCATION:Plateau sportif du gymnase – 05 600 Guillestre
END:VEVENT
END:VCALENDAR