BEGIN:VCALENDAR
VERSION:2.0
CALSCALE:GREGORIAN
METHOD:PUBLISH
BEGIN:VEVENT
SUMMARY: Un Été en France – Saint-Martin-de-Clelles
DTSTART:20260705
DTEND:20260706
DTSTAMP:20260420T094611
DESCRIPTION;ENCODING=QUOTED-PRINTABLE:Concert programmé à 19h avec Charlotte Miles, Anouchka Hack, Léo Ispir, Jeein You, Francesco Tamburini, Caroline Sypniewski, accompagnés du pianiste Jérôme Ducros.
UID:69e5f5e31740b
LOCATION:Place de la mairie – 38 419 Saint-Martin-de-Clelles
END:VEVENT
END:VCALENDAR